BEGIN:VCALENDAR
VERSION:2.0
PRODID:-//Born at the Right Time - ECPv6.15.20//NONSGML v1.0//EN
CALSCALE:GREGORIAN
METHOD:PUBLISH
X-ORIGINAL-URL:https://www.bornattherighttime.com
X-WR-CALDESC:Events for Born at the Right Time
REFRESH-INTERVAL;VALUE=DURATION:PT1H
X-Robots-Tag:noindex
X-PUBLISHED-TTL:PT1H
BEGIN:VTIMEZONE
TZID:UTC
BEGIN:STANDARD
TZOFFSETFROM:+0000
TZOFFSETTO:+0000
TZNAME:UTC
DTSTART:20160101T000000
END:STANDARD
END:VTIMEZONE
BEGIN:VEVENT
DTSTART;TZID=UTC:20170920T080000
DTEND;TZID=UTC:20170920T170000
DTSTAMP:20260423T103321
CREATED:20170519T200240Z
LAST-MODIFIED:20170926T120059Z
UID:12492-1505894400-1505926800@www.bornattherighttime.com
SUMMARY:Animation Filming
DESCRIPTION:Filming day for animation series with Simple Stuff Works
URL:https://www.bornattherighttime.com/event/animation-filming/
LOCATION:oxford\, Oxford
CATEGORIES:All Events,Filming
END:VEVENT
END:VCALENDAR