BEGIN:VCALENDAR
VERSION:2.0
PRODID:-//Born at the Right Time - ECPv6.15.20//NONSGML v1.0//EN
CALSCALE:GREGORIAN
METHOD:PUBLISH
X-ORIGINAL-URL:https://www.bornattherighttime.com
X-WR-CALDESC:Events for Born at the Right Time
REFRESH-INTERVAL;VALUE=DURATION:PT1H
X-Robots-Tag:noindex
X-PUBLISHED-TTL:PT1H
BEGIN:VTIMEZONE
TZID:UTC
BEGIN:STANDARD
TZOFFSETFROM:+0000
TZOFFSETTO:+0000
TZNAME:UTC
DTSTART:20160101T000000
END:STANDARD
END:VTIMEZONE
BEGIN:VEVENT
DTSTART;TZID=UTC:20170703T101500
DTEND;TZID=UTC:20170703T223000
DTSTAMP:20260423T072552
CREATED:20170703T075921Z
LAST-MODIFIED:20170703T080008Z
UID:12611-1499076900-1499121000@www.bornattherighttime.com
SUMMARY:BBC Essex Ronnie Barber Interview
DESCRIPTION:Discussing #TheSecretLifeofUs campaign launched by Disabled Children’s Partnership.
URL:https://www.bornattherighttime.com/event/radio-essex-ronnie-barber-interview/
CATEGORIES:All Events,Speaking Events
END:VEVENT
BEGIN:VEVENT
DTSTART;VALUE=DATE:20170701
DTEND;VALUE=DATE:20170702
DTSTAMP:20260423T072552
CREATED:20170519T200658Z
LAST-MODIFIED:20170519T202235Z
UID:12498-1498867200-1498953599@www.bornattherighttime.com
SUMMARY:Animation Filming
DESCRIPTION:Filming day for series of animations for Simple Stuff Works
URL:https://www.bornattherighttime.com/event/animation-filming-2/
LOCATION:Oxford\, Oxford\, United Kingdom
CATEGORIES:All Events,Training
END:VEVENT
BEGIN:VEVENT
DTSTART;VALUE=DATE:20170622
DTEND;VALUE=DATE:20170623
DTSTAMP:20260423T072552
CREATED:20170519T200044Z
LAST-MODIFIED:20170519T202453Z
UID:12489-1498089600-1498175999@www.bornattherighttime.com
SUMMARY:Training at Children's Hospice
DESCRIPTION:Contributing to multidisciplinary End of Life Training day by leading an interactive session titled; \nEffective communication from a service users perspective \n\nFamily perspective\nDiffering priorities\nCurrent research\nBarriers to communication\nStages of parenting a child with a life-limiting condition\nImproving practice
URL:https://www.bornattherighttime.com/event/training-at-childrens-hospice-3/
LOCATION:Ipswich
CATEGORIES:All Events,Training
END:VEVENT
BEGIN:VEVENT
DTSTART;VALUE=DATE:20170612
DTEND;VALUE=DATE:20170613
DTSTAMP:20260423T072552
CREATED:20170519T195916Z
LAST-MODIFIED:20170519T201606Z
UID:12487-1497225600-1497311999@www.bornattherighttime.com
SUMMARY:Training at Children's Hospice
DESCRIPTION:Contributing to multidisciplinary End of Life Training day by leading an interactive session titled; \nEffective communication from a service users perspective \n\nFamily perspective\nDiffering priorities\nCurrent research\nBarriers to communication\nStages of parenting a child with a life-limiting condition\nImproving practice
URL:https://www.bornattherighttime.com/event/training-at-childrens-hospice-2/
LOCATION:Cambridge
CATEGORIES:All Events,Training
END:VEVENT
BEGIN:VEVENT
DTSTART;VALUE=DATE:20170606
DTEND;VALUE=DATE:20170607
DTSTAMP:20260423T072552
CREATED:20170519T195716Z
LAST-MODIFIED:20170519T201627Z
UID:12484-1496707200-1496793599@www.bornattherighttime.com
SUMMARY:Training at Children's Hospice
DESCRIPTION:Contributing to End of Life Training day by leading an interactive session titled; \nEffective communication from a service users perspective \n\nFamily perspective\nDiffering priorities\nCurrent research\nBarriers to communication\nStages of parenting a child with a life-limiting condition\nTImproving practice
URL:https://www.bornattherighttime.com/event/training-at-childrens-hospice/
LOCATION:Cambridge
CATEGORIES:All Events,Training
END:VEVENT
BEGIN:VEVENT
DTSTART;TZID=UTC:20170531T080000
DTEND;TZID=UTC:20170531T170000
DTSTAMP:20260423T072552
CREATED:20170512T182749Z
LAST-MODIFIED:20170512T182749Z
UID:12295-1496217600-1496250000@www.bornattherighttime.com
SUMMARY:Speaking event #2
DESCRIPTION:A speaking event at a local hall\, free to attend.
URL:https://www.bornattherighttime.com/event/speaking-event-2/
CATEGORIES:All Events,Speaking Events
END:VEVENT
BEGIN:VEVENT
DTSTART;TZID=UTC:20170525T090000
DTEND;TZID=UTC:20170525T163000
DTSTAMP:20260423T072552
CREATED:20170519T194626Z
LAST-MODIFIED:20170519T201651Z
UID:12479-1495702800-1495729800@www.bornattherighttime.com
SUMMARY:Train the Trainer Day 2
DESCRIPTION:Joint facilitating Train the Trainer Level 2 course for Simple Stuff Works. \nLeading teaching sessions in; \n\nOne family’s Story\nPain expression in those who are non-verbal\nThermoregulation\nSleep\nPerson-centred care
URL:https://www.bornattherighttime.com/event/train-the-trainer-day-2/
LOCATION:Tamworth\, United Kingdom
CATEGORIES:All Events,Training
END:VEVENT
BEGIN:VEVENT
DTSTART;TZID=UTC:20170519T183000
DTEND;TZID=UTC:20170519T230000
DTSTAMP:20260423T072552
CREATED:20170519T203529Z
LAST-MODIFIED:20170519T203529Z
UID:12504-1495218600-1495234800@www.bornattherighttime.com
SUMMARY:BAPS awards
DESCRIPTION:Attending the Bloody Awesome Parents Awards with My Family Our Needs \n  \n 
URL:https://www.bornattherighttime.com/event/baps-awards/
LOCATION:Coventry
CATEGORIES:All Events
END:VEVENT
END:VCALENDAR