BEGIN:VCALENDAR
VERSION:2.0
PRODID:-//Born at the Right Time - ECPv6.15.20//NONSGML v1.0//EN
CALSCALE:GREGORIAN
METHOD:PUBLISH
X-WR-CALNAME:Born at the Right Time
X-ORIGINAL-URL:https://www.bornattherighttime.com
X-WR-CALDESC:Events for Born at the Right Time
REFRESH-INTERVAL;VALUE=DURATION:PT1H
X-Robots-Tag:noindex
X-PUBLISHED-TTL:PT1H
BEGIN:VTIMEZONE
TZID:UTC
BEGIN:STANDARD
TZOFFSETFROM:+0000
TZOFFSETTO:+0000
TZNAME:UTC
DTSTART:20160101T000000
END:STANDARD
END:VTIMEZONE
BEGIN:VEVENT
DTSTART;TZID=UTC:20190404T193000
DTEND;TZID=UTC:20190404T210000
DTSTAMP:20260423T015557
CREATED:20190326T100253Z
LAST-MODIFIED:20190326T104415Z
UID:13809-1554406200-1554411600@www.bornattherighttime.com
SUMMARY:Shattered lives - Where is God now?
DESCRIPTION:Instead of the book of your dreams\, Shattered is the book you want when your dreams seem out of reach. It’s an honest and funny devotional which takes a refreshing new look at the inevitable twists and turns of life. \nFor all of us\, life events can arrive accompanied by grief\, heartache or simply a sense of disappointment. Shattered walks us through how brokenness doesn’t necessarily need fixing\, but rather growth\, transformation and abundance can actually happen at the broken edges of life.
URL:https://www.bornattherighttime.com/event/shattered-lives-where-is-god-now/
LOCATION:Easton Royal Village Hall\, SN9 5LS
CATEGORIES:All Events,Faith
ATTACH;FMTTYPE=image/png:https://www.bornattherighttime.com/wp-content/uploads/2019/01/Screen-Shot-2019-03-26-at-09.57.54.png
END:VEVENT
BEGIN:VEVENT
DTSTART;TZID=UTC:20190404T143000
DTEND;TZID=UTC:20190404T153000
DTSTAMP:20260423T015557
CREATED:20190123T170812Z
LAST-MODIFIED:20190326T100716Z
UID:13349-1554388200-1554391800@www.bornattherighttime.com
SUMMARY:Finding peace in life’s turmoils
DESCRIPTION:Come and See Presents– ‘Finding peace in life’s turmoils’\n2.30pm Pewsey Methodist Church\, North Street\, Pewsey SN9 5ES \n \nInstead of the book of your dreams\, Shattered is the book you want when your dreams seem out of reach. It’s an honest and funny devotional which takes a refreshing new look at the inevitable twists and turns of life. \nFor all of us\, life events can arrive accompanied by grief\, heartache or simply a sense of disappointment. Shattered walks us through how brokenness doesn’t necessarily need fixing\, but rather growth\, transformation and abundance can actually happen at the broken edges of life.
URL:https://www.bornattherighttime.com/event/pewsey-church/
CATEGORIES:All Events,Faith
ATTACH;FMTTYPE=image/png:https://www.bornattherighttime.com/wp-content/uploads/2019/01/Screen-Shot-2019-03-26-at-09.57.54.png
END:VEVENT
BEGIN:VEVENT
DTSTART;TZID=UTC:20190403T110000
DTEND;TZID=UTC:20190403T113000
DTSTAMP:20260423T015557
CREATED:20190311T162555Z
LAST-MODIFIED:20190311T163539Z
UID:13684-1554289200-1554291000@www.bornattherighttime.com
SUMMARY:Premier Radio Interview
DESCRIPTION:Interview with Woman to Woman host Maria Rodrigues talking about newly released book Shattered.
URL:https://www.bornattherighttime.com/event/premier-radio-interview/
LOCATION:London
CATEGORIES:All Events,Faith
ATTACH;FMTTYPE=image/jpeg:https://www.bornattherighttime.com/wp-content/uploads/2019/03/Premier.jpg
END:VEVENT
BEGIN:VEVENT
DTSTART;TZID=UTC:20190327T100000
DTEND;TZID=UTC:20190327T140000
DTSTAMP:20260423T015557
CREATED:20190311T163242Z
LAST-MODIFIED:20190311T163713Z
UID:13687-1553680800-1553695200@www.bornattherighttime.com
SUMMARY:Essex Family Forum AGM 2019
DESCRIPTION:Delighted to be the guest speaker at this years Essex Family Forum’s Annual General Meeting where I will be talking about all the things I really care about; ‘Communication\, community and facing life’s challenges’.
URL:https://www.bornattherighttime.com/event/essex-family-forum-agm-2019/
LOCATION:Essex County Cricket Ground
CATEGORIES:All Events,Speaking Events
ATTACH;FMTTYPE=image/png:https://www.bornattherighttime.com/wp-content/uploads/2019/03/EFF.png
END:VEVENT
BEGIN:VEVENT
DTSTART;TZID=UTC:20190323T160000
DTEND;TZID=UTC:20190323T180000
DTSTAMP:20260423T015558
CREATED:20190222T101437Z
LAST-MODIFIED:20190315T191925Z
UID:13609-1553356800-1553364000@www.bornattherighttime.com
SUMMARY:Shattered Launch Event
DESCRIPTION:To celebrate and launch Shattered there will be food\, music\, families and hopefully fun. \n \nInstead of the book of your dreams\, Shattered is the book you want when your dreams seem out of reach. It’s an honest and funny devotional which takes a refreshing new look at the inevitable twists and turns of life. \nFor all of us\, life events can arrive accompanied by grief\, heartache or simply a sense of disappointment. Shatteredwalks us through how brokenness doesn’t necessarily need fixing\, but rather growth\, transformation and abundance can actually happen at the broken edges of life.
URL:https://www.bornattherighttime.com/event/shattered-launch-event/
LOCATION:Southend on sea\, United Kingdom
CATEGORIES:All Events
ATTACH;FMTTYPE=image/jpeg:https://www.bornattherighttime.com/wp-content/uploads/2019/03/Shattered_podcast-scaled.jpg
END:VEVENT
BEGIN:VEVENT
DTSTART;TZID=UTC:20190321T080000
DTEND;TZID=UTC:20190321T170000
DTSTAMP:20260423T015558
CREATED:20180424T073358Z
LAST-MODIFIED:20180424T073358Z
UID:13054-1553155200-1553187600@www.bornattherighttime.com
SUMMARY:Independent Living Conference
DESCRIPTION:At the Independent Living conference I am presenting as a keynote speaker on \nPerspective\, Priorities and Partnership\nHelping professionals who work with families of children and adults with additional needs understand the complexity of our story\, recognise our perspective\, identify our priorities and work in partnership.
URL:https://www.bornattherighttime.com/event/independent-living-conference/
CATEGORIES:All Events,Speaking Events
ATTACH;FMTTYPE=image/jpeg:https://www.bornattherighttime.com/wp-content/uploads/2017/12/IMG_0006-1-scaled.jpg
END:VEVENT
BEGIN:VEVENT
DTSTART;TZID=UTC:20181130T080000
DTEND;TZID=UTC:20181130T170000
DTSTAMP:20260423T015558
CREATED:20180918T130441Z
LAST-MODIFIED:20180918T130441Z
UID:13138-1543564800-1543597200@www.bornattherighttime.com
SUMMARY:Greenside School
DESCRIPTION:Parent workshop and class lead training.
URL:https://www.bornattherighttime.com/event/greenside-school/
CATEGORIES:All Events,Speaking Events,Training
ATTACH;FMTTYPE=image/jpeg:https://www.bornattherighttime.com/wp-content/uploads/2017/12/IMG_2879-LR_1500x1000.jpg
END:VEVENT
BEGIN:VEVENT
DTSTART;TZID=UTC:20181129T180000
DTEND;TZID=UTC:20181129T230000
DTSTAMP:20260423T015558
CREATED:20181004T112233Z
LAST-MODIFIED:20181004T112233Z
UID:13216-1543514400-1543532400@www.bornattherighttime.com
SUMMARY:British Healthcare Trade Association Annual Awards Dinner
DESCRIPTION:Celebrating the achievements of BHTA members and the wider healthcare and assistive technology industry at the Annual Awards Dinner hosted by Simon Weston CBE\, a veteran of the British Army.
URL:https://www.bornattherighttime.com/event/british-healthcare-trade-association-annual-awards-dinner/
LOCATION:Alton Towers
CATEGORIES:All Events
ATTACH;FMTTYPE=image/jpeg:https://www.bornattherighttime.com/wp-content/uploads/2018/10/BHTA-Master-Logo.jpg
END:VEVENT
BEGIN:VEVENT
DTSTART;TZID=UTC:20181108T113000
DTEND;TZID=UTC:20181108T123000
DTSTAMP:20260423T015558
CREATED:20180918T125658Z
LAST-MODIFIED:20180918T125725Z
UID:13131-1541676600-1541680200@www.bornattherighttime.com
SUMMARY:Kidz to Adultz North Seminar
DESCRIPTION:Understanding what goes on behind closed doors and listening to lived experiences of families\, is an important step past clinical jargon to understanding the complexity and heartbeat of family life for those who have children with additional needs.\nObjective: To develop skills needed for effective communication with families\nLearning outcomes:\n• Understand the complexity of parenting a child with complex needs\n• To recognise open\, authentic and effective communication is the key to engagement and co-productive working.\n• Examine research and best practice around communicating with families.\n• Consider the importance of perspective\, priorities and partnership.\n• To equip professionals with simple steps towards promoting effective communication. \n  \nCome and find me on the BHTA stand.
URL:https://www.bornattherighttime.com/event/kidz-to-adultz-north-seminar/
LOCATION:Manchester Eventcity\, United Kingdom
CATEGORIES:All Events,Training
ATTACH;FMTTYPE=image/png:https://www.bornattherighttime.com/wp-content/uploads/2018/09/K2A-poster.png
END:VEVENT
BEGIN:VEVENT
DTSTART;VALUE=DATE:20181102
DTEND;VALUE=DATE:20181103
DTSTAMP:20260423T015558
CREATED:20170926T115718Z
LAST-MODIFIED:20181004T113553Z
UID:12692-1541116800-1541203199@www.bornattherighttime.com
SUMMARY:Raising the Bar 2: National PMLD Conference
DESCRIPTION:Go Big or Go Home: Raising expectations in our work with people with PMLD \nWhat limits those with complex disabilities the most? Their disability\, environment\, society or quite simply the expectation of those who work with them. \nJoin a host of inspiring speakers focused on improving the lives of those with PMLD through pioneering practice and implementing the PMLD Core and Essential Service Standards. \nIf you care for someone with profound and multiple learning difficulties\, can you really afford to miss this? \nCome and find me at the Born at the Right Time stand for a wee chat\, to buy The Skies I’m Under or hear about professional training and parent workshops.
URL:https://www.bornattherighttime.com/event/raising-bar-pmld-conference/
LOCATION:Birmingham University
CATEGORIES:All Events,Speaking Events
ATTACH;FMTTYPE=image/png:https://www.bornattherighttime.com/wp-content/uploads/2017/09/Screen-Shot-2018-10-04-at-13.06.07.png
END:VEVENT
BEGIN:VEVENT
DTSTART;TZID=UTC:20181006T093000
DTEND;TZID=UTC:20181006T163000
DTSTAMP:20260423T015558
CREATED:20180223T105118Z
LAST-MODIFIED:20180223T105118Z
UID:12968-1538818200-1538843400@www.bornattherighttime.com
SUMMARY:CWR Seminar
DESCRIPTION:What happens when life falls apart?\nWhat do you do with the broken pieces of your dreams?\nMany of us find ourselves living an unexpected life. One we didn’t envision or plan for\, one that doesn’t appear to reflect the life we hoped God had planned for us. Rachel returned from working abroad as a nurse with her husband doctor\, Tim. Their life is unfolding with reassuring predictability until Rachel found herself sitting in the darkness of a newly decorated nursery\, unable to feel her unborn baby move. Suddenly everything was turned upside down as their newborn teetered on the brink of life and death. \nThrough this seminar Rachel will share the heartbreak and hope of her story and in turn help you explore and define your own story. \nSo often our lives don’t match expectations because of loss\, grief\, career changes or relationship breakdown. Through this seminar\, Rachel will use kinaesthetic and interactive ways to engage participants with the truths of hope and pain that God has given us\, equipping us to live the life we have\, rather than the one we anticipated.
URL:https://www.bornattherighttime.com/event/cwr-seminar/
CATEGORIES:All Events,Faith
ATTACH;FMTTYPE=image/jpeg:https://www.bornattherighttime.com/wp-content/uploads/2018/02/IMG_2883-LR_1500x1000.jpg
END:VEVENT
BEGIN:VEVENT
DTSTART;TZID=UTC:20180926T120000
DTEND;TZID=UTC:20180926T143000
DTSTAMP:20260423T015558
CREATED:20180918T125959Z
LAST-MODIFIED:20180918T130218Z
UID:13134-1537963200-1537972200@www.bornattherighttime.com
SUMMARY:SNAP Charity Parent Workshop
DESCRIPTION:So many appointments\, so much advice\, so many professionals and so little time. \nIn a world where we are being pulled in so many directions\, how do parents of children with additional needs navigate a world where fighting is the norm and tensions high. Rachel’s practical advice and personal insight explores how you\, as parents\, can get the best for your children through effective relationships with professionals whilst looking after yourselves.
URL:https://www.bornattherighttime.com/event/snap-charity-parent-workshop/
CATEGORIES:All Events,Speaking Events
ATTACH;FMTTYPE=image/png:https://www.bornattherighttime.com/wp-content/uploads/2018/09/Screen-Shot-2018-09-18-at-13.20.52.png
END:VEVENT
BEGIN:VEVENT
DTSTART;TZID=UTC:20180918T080000
DTEND;TZID=UTC:20180918T170000
DTSTAMP:20260423T015558
CREATED:20170926T120402Z
LAST-MODIFIED:20180223T093143Z
UID:12696-1537257600-1537290000@www.bornattherighttime.com
SUMMARY:Simple Stuff Works Standardisation Day
DESCRIPTION:Training for all Simple Stuff Works Trainers
URL:https://www.bornattherighttime.com/event/simple-stuff-works-standardisation-day/
LOCATION:Tamworth\, United Kingdom
CATEGORIES:All Events,Training
END:VEVENT
BEGIN:VEVENT
DTSTART;TZID=UTC:20180805T080000
DTEND;TZID=UTC:20180811T170000
DTSTAMP:20260423T015558
CREATED:20180424T050752Z
LAST-MODIFIED:20180424T050752Z
UID:13047-1533456000-1534006800@www.bornattherighttime.com
SUMMARY:Bringing a faith perspective to life's brokenness.
DESCRIPTION:At New Wine week 2 I am leading a seminar about life as the parent of a child with complex disabilities. What life is like\, the challenges and joys and how our journey of faith has been impacted. \nI will also be supporting Breathe\, the area for parents and carers of children with additional needs.
URL:https://www.bornattherighttime.com/event/bringing-a-faith-perspective-to-lifes-brokenness/
LOCATION:Shepton Mallet\, United Kingdom
ATTACH;FMTTYPE=image/jpeg:https://www.bornattherighttime.com/wp-content/uploads/2018/04/new-wine-2018.jpg
END:VEVENT
BEGIN:VEVENT
DTSTART;TZID=UTC:20180729T103000
DTEND;TZID=UTC:20180729T120000
DTSTAMP:20260423T015558
CREATED:20180424T050210Z
LAST-MODIFIED:20180424T050354Z
UID:13044-1532860200-1532865600@www.bornattherighttime.com
SUMMARY:Brokenness as an invitation to wholehearted living
DESCRIPTION:Leading Church service at Avenue Baptist Church in Southend focused on what we can learn about God through those within our community who have disabilities.
URL:https://www.bornattherighttime.com/event/brokenness-as-an-invitation-to-wholehearted-living/
LOCATION:Southend on sea\, United Kingdom
ATTACH;FMTTYPE=image/jpeg:https://www.bornattherighttime.com/wp-content/uploads/2018/02/NParry_wright_project_2_CR-e1517614290837.jpg
END:VEVENT
BEGIN:VEVENT
DTSTART;TZID=UTC:20180702T180000
DTEND;TZID=UTC:20180702T200000
DTSTAMP:20260423T015558
CREATED:20180223T104612Z
LAST-MODIFIED:20180223T104612Z
UID:12961-1530554400-1530561600@www.bornattherighttime.com
SUMMARY:Honesty over Silence by Patrick Regan book launch
DESCRIPTION:  \nThe new and exciting book by Patrick Regan OBE is being launched at XLP London. \nI was delighted to contribute a chapter on how our lives and faith have been shaped by the challenges of parenting a child with severe disabilities and will be attending the launch event on 2nd July 2018.
URL:https://www.bornattherighttime.com/event/honesty-silence-patrick-regan-book-launch/
LOCATION:London
ATTACH;FMTTYPE=image/jpeg:https://www.bornattherighttime.com/wp-content/uploads/2018/02/Patrick-and-me.jpg
END:VEVENT
BEGIN:VEVENT
DTSTART;VALUE=DATE:20180613
DTEND;VALUE=DATE:20180616
DTSTAMP:20260423T015558
CREATED:20180126T105643Z
LAST-MODIFIED:20180424T072818Z
UID:12864-1528848000-1529107199@www.bornattherighttime.com
SUMMARY:European Seating Symposium
DESCRIPTION:The European Seating Symposium is for professionals\, manufacturers\, suppliers and users of Seating & Assistive Technology. Specialists in the field from around the world are gathering to share knowledge and research. \nI’m delighted to me speaking along internationally renown professionals as I present alongside Sarah Clayton\, CEO Simple Stuff Works\, on \nFailing to succeed: How co-production should be shaping our practice. \nAt such a prestigious event\, it is great that be part of putting families and parent participation front and centre of the care of those requiring specialist seating and assistive technology.
URL:https://www.bornattherighttime.com/event/european-seating-symposium/
LOCATION:Trinity College Dublin\, College Green\, Dublin\, Ireland
CATEGORIES:All Events,Speaking Events
ATTACH;FMTTYPE=image/jpeg:https://www.bornattherighttime.com/wp-content/uploads/2018/01/ESS.jpg
END:VEVENT
BEGIN:VEVENT
DTSTART;TZID=UTC:20180607T140000
DTEND;TZID=UTC:20180607T160000
DTSTAMP:20260423T015558
CREATED:20180223T103430Z
LAST-MODIFIED:20180223T103430Z
UID:12957-1528380000-1528387200@www.bornattherighttime.com
SUMMARY:Faith and parenting a child with severe disabilities
DESCRIPTION:When my defining moment came\, all my previously held hopes and dreams appeared to shatter. The contents of our lives were tipped out on the floor and we were left with the question – what now? \nMore than ever\, I’m convinced that being broken isn’t a problem\, it’s what we do with the pieces that count. Parenting and loving our son has shaped the way we view God and how we live our lives.
URL:https://www.bornattherighttime.com/event/faith-parenting-child-severe-disabilities/
LOCATION:Southend
END:VEVENT
BEGIN:VEVENT
DTSTART;TZID=UTC:20180605T100000
DTEND;TZID=UTC:20180605T130000
DTSTAMP:20260423T015558
CREATED:20180424T045828Z
LAST-MODIFIED:20180424T045828Z
UID:13042-1528192800-1528203600@www.bornattherighttime.com
SUMMARY:Communicating with families of children with life-limiting conditions
DESCRIPTION:How to communicate with families who have children with life-limiting conditions. Part of a post graduate nursing course.\nThis 3 hour training session helps professionals and practitioners develop their practice in communicating with families. \nEach teaching session I deliver is tailored to client experience\, setting and learning objectives. The training can be stand alone or part of a larger module of work. It is relevant for those working within education\, health and social care\, whether they are still undergoing training or have been in the job for years. \nI aim to include our family’s story\, anecdotes\, current research\, reflective practice\, group work and discussion. Each session is interactive\, dynamic and memorable. I expect every learner to leave better informed with practical ways to improve their future practice.
URL:https://www.bornattherighttime.com/event/communicating-with-families-of-children-with-life-limiting-conditions/
CATEGORIES:All Events,Training
ATTACH;FMTTYPE=image/jpeg:https://www.bornattherighttime.com/wp-content/uploads/2018/02/IMG_2883-LR_1500x1000.jpg
END:VEVENT
BEGIN:VEVENT
DTSTART;TZID=UTC:20180517T183000
DTEND;TZID=UTC:20180517T233000
DTSTAMP:20260423T015558
CREATED:20180223T100148Z
LAST-MODIFIED:20180223T100148Z
UID:12943-1526581800-1526599800@www.bornattherighttime.com
SUMMARY:BAPs SEND Blogging Awards
DESCRIPTION:I’m thrilled to have made finalist in the years BAPs award for blogger who focus on special educational needs. \nYou can vote for me in the Making a difference and Practical Advice for Families category. \n 
URL:https://www.bornattherighttime.com/event/baps-send-blogging-awards/
CATEGORIES:All Events
ATTACH;FMTTYPE=image/jpeg:https://www.bornattherighttime.com/wp-content/uploads/2018/02/0018-9550-1.jpg
END:VEVENT
BEGIN:VEVENT
DTSTART;TZID=UTC:20180517T093000
DTEND;TZID=UTC:20180517T163000
DTSTAMP:20260423T015558
CREATED:20170926T114632Z
LAST-MODIFIED:20180223T094555Z
UID:12688-1526549400-1526574600@www.bornattherighttime.com
SUMMARY:Train the Trainer - Day 2
DESCRIPTION:Joint facilitating Train the Trainer Level 2 course for Simple Stuff Works. \nLeading teaching sessions in; \n\nOne family’s Story\nPain expression in those who are non-verbal\nThermoregulation\nSleep\nCo-production\nPerson-centred care\n\n 
URL:https://www.bornattherighttime.com/event/train-trainer-day-2/
LOCATION:Tamworth\, United Kingdom
CATEGORIES:All Events,Training
ATTACH;FMTTYPE=image/jpeg:https://www.bornattherighttime.com/wp-content/uploads/2017/09/28168056_291019098093785_3583216357614161049_n.jpg
END:VEVENT
BEGIN:VEVENT
DTSTART;TZID=UTC:20180424T110000
DTEND;TZID=UTC:20180424T153000
DTSTAMP:20260423T015558
CREATED:20180223T102958Z
LAST-MODIFIED:20180223T103000Z
UID:12954-1524567600-1524583800@www.bornattherighttime.com
SUMMARY:Communicating with families of complex children
DESCRIPTION:How to communicate with families who have complex children training for Paediatric Nursing Students.\nThis 3 hour training session helps professionals and practitioners develop their practice in communicating with families. \nEach teaching session I deliver is tailored to client experience\, setting and learning objectives. The training can be stand alone or part of a larger module of work. It is relevant for those working within education\, health and social care\, whether they are still undergoing training or have been in the job for years. \nI aim to include our family’s story\, anecdotes\, current research\, reflective practice\, group work and discussion. Each session is interactive\, dynamic and memorable. I expect every learner to leave better informed with practical ways to improve their future practice.
URL:https://www.bornattherighttime.com/event/communicating-families-complex-children/
LOCATION:London
CATEGORIES:All Events,Training
ATTACH;FMTTYPE=image/jpeg:https://www.bornattherighttime.com/wp-content/uploads/2018/02/IMG_2883-LR_1500x1000.jpg
END:VEVENT
BEGIN:VEVENT
DTSTART;TZID=UTC:20180419T093000
DTEND;TZID=UTC:20180419T163000
DTSTAMP:20260423T015558
CREATED:20180223T094946Z
LAST-MODIFIED:20180223T095016Z
UID:12939-1524130200-1524155400@www.bornattherighttime.com
SUMMARY:Train the Trainer: Day 1
DESCRIPTION:Joint facilitating Train the Trainer Level 2 course for Simple Stuff Works. \nLeading teaching sessions in; \n\nOne family’s Story\nPain expression in those who are non-verbal\nThermoregulation\nSleep\nCo-production\nPerson-centred care
URL:https://www.bornattherighttime.com/event/train-trainer-day-1/
CATEGORIES:All Events,Training
ATTACH;FMTTYPE=image/jpeg:https://www.bornattherighttime.com/wp-content/uploads/2017/09/28168056_291019098093785_3583216357614161049_n.jpg
END:VEVENT
BEGIN:VEVENT
DTSTART;TZID=UTC:20180302T100000
DTEND;TZID=UTC:20180302T160000
DTSTAMP:20260423T015558
CREATED:20180126T123515Z
LAST-MODIFIED:20180223T093913Z
UID:12867-1519984800-1520006400@www.bornattherighttime.com
SUMMARY:QEF Equipment fair for Children with Disabilities
DESCRIPTION:Queen Elizabeth Foundation for disabled children believe that those who have disabilities should be afforded the same opportunities to everyone else. \nI’m delighted to be speaking at their Equipment Fair on 2nd March 2018 about families of children with complex needs and the joys and complications our families face. \nCome along to seethe 30 exhibitors\, hear me speak and buy The Skies I’m Under. \n \n 
URL:https://www.bornattherighttime.com/event/qef-kids-open-day/
CATEGORIES:All Events,Speaking Events
ATTACH;FMTTYPE=image/png:https://www.bornattherighttime.com/wp-content/uploads/2018/01/Screen-Shot-2018-02-23-at-09.38.29.png
END:VEVENT
BEGIN:VEVENT
DTSTART;TZID=UTC:20180223T130000
DTEND;TZID=UTC:20180223T160000
DTSTAMP:20260423T015558
CREATED:20180223T102340Z
LAST-MODIFIED:20180223T102341Z
UID:12950-1519390800-1519401600@www.bornattherighttime.com
SUMMARY:Communicating with Complex Families
DESCRIPTION:How to communicate with families who have complex children training for Paediatric Nursing Students.\nThis 3 hour training session helps professionals and practitioners develop their practice in communicating with families. \nEach teaching session I deliver is tailored to client experience\, setting and learning objectives. The training can be stand alone or part of a larger module of work. It is relevant for those working within education\, health and social care\, whether they are still undergoing training or have been in the job for years. \nI aim to include our family’s story\, anecdotes\, current research\, reflective practice\, group work and discussion. Each session is interactive\, dynamic and memorable. I expect every learner to leave better informed with practical ways to improve their future practice.
URL:https://www.bornattherighttime.com/event/communicating-complex-families/
CATEGORIES:All Events,Training
ATTACH;FMTTYPE=image/jpeg:https://www.bornattherighttime.com/wp-content/uploads/2018/02/IMG_2883-LR_1500x1000.jpg
END:VEVENT
BEGIN:VEVENT
DTSTART;TZID=UTC:20171129T160000
DTEND;TZID=UTC:20171129T180000
DTSTAMP:20260423T015558
CREATED:20171111T153230Z
LAST-MODIFIED:20171111T153257Z
UID:12813-1511971200-1511978400@www.bornattherighttime.com
SUMMARY:Disabled Children's Partnership
DESCRIPTION:As part of the DCP launch event Rachel will be sharing a families perspective on caring for a child with complex needs in a time of shrinking health and welfare budgets.
URL:https://www.bornattherighttime.com/event/disabled-childrens-partnership/
LOCATION:London
CATEGORIES:Speaking Events
END:VEVENT
BEGIN:VEVENT
DTSTART;TZID=UTC:20171019T090000
DTEND;TZID=UTC:20171019T170000
DTSTAMP:20260423T015558
CREATED:20170519T195006Z
LAST-MODIFIED:20170926T114031Z
UID:12482-1508403600-1508432400@www.bornattherighttime.com
SUMMARY:Train the Trainer Day 2
DESCRIPTION:Joint facilitating Train the Trainer Level 2 course for Simple Stuff Works. \nLeading teaching sessions in; \n\nOne family’s Story\nPain expression in those who are non-verbal\nThermoregulation\nSleep\nPerson-centred care
URL:https://www.bornattherighttime.com/event/train-the-trainer-day-2-2/
LOCATION:Tamworth\, United Kingdom
CATEGORIES:All Events,Training
END:VEVENT
BEGIN:VEVENT
DTSTART;TZID=UTC:20170928T193000
DTEND;TZID=UTC:20170928T213000
DTSTAMP:20260423T015558
CREATED:20170926T114852Z
LAST-MODIFIED:20170926T114852Z
UID:12690-1506627000-1506634200@www.bornattherighttime.com
SUMMARY:All Inclusive
DESCRIPTION:Urban Saints Training event \nFacilitating Churches be Inclusive
URL:https://www.bornattherighttime.com/event/all-inclusive/
LOCATION:Ipswich
CATEGORIES:All Events
END:VEVENT
BEGIN:VEVENT
DTSTART;TZID=UTC:20170920T080000
DTEND;TZID=UTC:20170920T170000
DTSTAMP:20260423T015558
CREATED:20170519T200240Z
LAST-MODIFIED:20170926T120059Z
UID:12492-1505894400-1505926800@www.bornattherighttime.com
SUMMARY:Animation Filming
DESCRIPTION:Filming day for animation series with Simple Stuff Works
URL:https://www.bornattherighttime.com/event/animation-filming/
LOCATION:oxford\, Oxford
CATEGORIES:All Events,Filming
END:VEVENT
BEGIN:VEVENT
DTSTART;TZID=UTC:20170919T080000
DTEND;TZID=UTC:20170919T170000
DTSTAMP:20260423T015558
CREATED:20170926T120250Z
LAST-MODIFIED:20170926T120250Z
UID:12694-1505808000-1505840400@www.bornattherighttime.com
SUMMARY:Standardisation Day
DESCRIPTION:Simple Stuff Works Trainer Standardisation Day
URL:https://www.bornattherighttime.com/event/standardisation-day/
LOCATION:Tamworth\, United Kingdom
END:VEVENT
END:VCALENDAR